BEGIN:VCALENDAR
VERSION:2.0
PRODID:-//Handcrafted Jewellery and Gifts | cadeaux faits à la main - ECPv6.15.20//NONSGML v1.0//EN
CALSCALE:GREGORIAN
METHOD:PUBLISH
X-WR-CALNAME:Handcrafted Jewellery and Gifts | cadeaux faits à la main
X-ORIGINAL-URL:https://nsandifer.com
X-WR-CALDESC:Events for Handcrafted Jewellery and Gifts | cadeaux faits à la main
REFRESH-INTERVAL;VALUE=DURATION:PT1H
X-Robots-Tag:noindex
X-PUBLISHED-TTL:PT1H
BEGIN:VTIMEZONE
TZID:Europe/Paris
BEGIN:DAYLIGHT
TZOFFSETFROM:+0100
TZOFFSETTO:+0200
TZNAME:CEST
DTSTART:20240331T010000
END:DAYLIGHT
BEGIN:STANDARD
TZOFFSETFROM:+0200
TZOFFSETTO:+0100
TZNAME:CET
DTSTART:20241027T010000
END:STANDARD
BEGIN:DAYLIGHT
TZOFFSETFROM:+0100
TZOFFSETTO:+0200
TZNAME:CEST
DTSTART:20250330T010000
END:DAYLIGHT
BEGIN:STANDARD
TZOFFSETFROM:+0200
TZOFFSETTO:+0100
TZNAME:CET
DTSTART:20251026T010000
END:STANDARD
BEGIN:DAYLIGHT
TZOFFSETFROM:+0100
TZOFFSETTO:+0200
TZNAME:CEST
DTSTART:20260329T010000
END:DAYLIGHT
BEGIN:STANDARD
TZOFFSETFROM:+0200
TZOFFSETTO:+0100
TZNAME:CET
DTSTART:20261025T010000
END:STANDARD
END:VTIMEZONE
BEGIN:VEVENT
DTSTART;TZID=Europe/Paris:20251223T100000
DTEND;TZID=Europe/Paris:20251223T190000
DTSTAMP:20260425T131714
CREATED:20251202T142804Z
LAST-MODIFIED:20251202T143741Z
UID:5008-1766484000-1766516400@nsandifer.com
SUMMARY:Marche Noel La Souterraine 2025
DESCRIPTION:Place d’Armes
URL:https://nsandifer.com/event/marche-noel-la-souterraine-2025
LOCATION:la souterraine\, la souterraine\, 23300\, France
CATEGORIES:Marché de Noël
END:VEVENT
BEGIN:VEVENT
DTSTART;TZID=Europe/Paris:20251221T100000
DTEND;TZID=Europe/Paris:20251221T170000
DTSTAMP:20260425T131714
CREATED:20251117T132249Z
LAST-MODIFIED:20251117T132249Z
UID:5004-1766311200-1766336400@nsandifer.com
SUMMARY:Marche Noel Chenerailles 2025
DESCRIPTION:
URL:https://nsandifer.com/event/marche-noel-chenerailles-2025
LOCATION:Chenerailles\, 23130
CATEGORIES:Marché de Noël
ATTACH;FMTTYPE=image/jpeg:https://nsandifer.com/wp-content/uploads/2025/11/1763375038999.jpg
END:VEVENT
BEGIN:VEVENT
DTSTART;TZID=Europe/Paris:20251214T080000
DTEND;TZID=Europe/Paris:20251214T170000
DTSTAMP:20260425T131714
CREATED:20251118T095213Z
LAST-MODIFIED:20251118T095213Z
UID:5023-1765699200-1765731600@nsandifer.com
SUMMARY:Marche Noel Chambon sur Voueize 2025
DESCRIPTION:Salle de fetes et place de la poste \n20 exposants dans la salle des fêtes et 20 exposants en extérieur
URL:https://nsandifer.com/event/marche-noel-chambon-sur-voueize-2025
LOCATION:Chambon sur voueize\, 23170\, France
CATEGORIES:Marché de Noël
ATTACH;FMTTYPE=image/jpeg:https://nsandifer.com/wp-content/uploads/2025/11/Affiche-Marche-.jpg
END:VEVENT
BEGIN:VEVENT
DTSTART;TZID=Europe/Paris:20251213T100000
DTEND;TZID=Europe/Paris:20251213T180000
DTSTAMP:20260425T131714
CREATED:20251117T132525Z
LAST-MODIFIED:20251202T142735Z
UID:5006-1765620000-1765648800@nsandifer.com
SUMMARY:Marche Noel Boussac 2025
DESCRIPTION:au cœur de la ville\, avec de nombreuses activités
URL:https://nsandifer.com/event/marche-noel-boussac-2025
LOCATION:Boussac\, 23031
CATEGORIES:Marché de Noël
ATTACH;FMTTYPE=image/jpeg:https://nsandifer.com/wp-content/uploads/2025/11/1763375038986.jpg
END:VEVENT
BEGIN:VEVENT
DTSTART;TZID=Europe/Paris:20251207T080000
DTEND;TZID=Europe/Paris:20251207T130000
DTSTAMP:20260425T131714
CREATED:20251117T131834Z
LAST-MODIFIED:20251201T133914Z
UID:5002-1765094400-1765112400@nsandifer.com
SUMMARY:Marche de la Laine Jarnages 2025
DESCRIPTION:Sur le marché et sous le chapiteau
URL:https://nsandifer.com/event/marche-de-la-laine-jarnages-2025
LOCATION:Jarnages\, 23140
CATEGORIES:Marché à thème
ATTACH;FMTTYPE=image/jpeg:https://nsandifer.com/wp-content/uploads/2025/11/1764595883954.jpg
END:VEVENT
BEGIN:VEVENT
DTSTART;TZID=Europe/Paris:20251206T170000
DTEND;TZID=Europe/Paris:20251206T220000
DTSTAMP:20260425T131714
CREATED:20251117T130339Z
LAST-MODIFIED:20251117T130339Z
UID:5000-1765040400-1765058400@nsandifer.com
SUMMARY:Marche Noel Gouzon 2025
DESCRIPTION:place d’eglise Gouzon
URL:https://nsandifer.com/event/marche-noel-gouzon-2025
LOCATION:Gouzon\, Place de l'Eglise\, Gouzon\, 23230\, France
CATEGORIES:Marché de Noël
ATTACH;FMTTYPE=image/jpeg:https://nsandifer.com/wp-content/uploads/2025/11/1763375039005.jpg
END:VEVENT
BEGIN:VEVENT
DTSTART;TZID=Europe/Paris:20251117T090000
DTEND;TZID=Europe/Paris:20251130T180000
DTSTAMP:20260425T131714
CREATED:20251117T125938Z
LAST-MODIFIED:20251117T125938Z
UID:4993-1763370000-1764525600@nsandifer.com
SUMMARY:Marche Noel Bonnat
DESCRIPTION:Marché de Noël dans le boulodrome couvert.
URL:https://nsandifer.com/event/marche-noel-bonnat
LOCATION:bonnat\, 6 chemin de ronde\, bonnat\, 23220\, France
CATEGORIES:Marché de Noël
ATTACH;FMTTYPE=image/jpeg:https://nsandifer.com/wp-content/uploads/2025/11/1763375038993.jpg
END:VEVENT
BEGIN:VEVENT
DTSTART;TZID=Europe/Paris:20251111T070000
DTEND;TZID=Europe/Paris:20251111T140000
DTSTAMP:20260425T131714
CREATED:20251106T141852Z
LAST-MODIFIED:20251106T141852Z
UID:4967-1762844400-1762869600@nsandifer.com
SUMMARY:Gouzon Foire 11 novembre 2025
DESCRIPTION:Gouzon 23230 \nLocal products\, hand crafted products and entertainment from 7am until 14hr
URL:https://nsandifer.com/event/gouzon-foire-11-novembre-2025
CATEGORIES:Foire
ATTACH;FMTTYPE=image/jpeg:https://nsandifer.com/wp-content/uploads/2025/11/1762438367551.jpg
END:VEVENT
BEGIN:VEVENT
DTSTART;TZID=Europe/Paris:20250820T150000
DTEND;TZID=Europe/Paris:20250820T220000
DTSTAMP:20260425T131714
CREATED:20250523T123035Z
LAST-MODIFIED:20250523T123035Z
UID:4548-1755702000-1755727200@nsandifer.com
SUMMARY:Les Mercredis d'Ahun 20 aout 2025
DESCRIPTION:Marche artisanal par La Caravane des Libertes \nFrancaise \n\nComme l’an dernier le petit marché artistique et artisanal se tiendra à partir de 17h.\nDes animations pour les enfants sont prévues à partir de 15h\, et un spectacle sera programmé le soir.\nLa restauration sera assurée par un\, ou deux\, foodtrucks\, et la buvette tenue par notre association.\n\nEnglish \n\nLike last year\, the small arts and crafts market will be starting at 5 p.m. \nChildren’s entertainment is planned starting at 3 p.m.\, and a show will be scheduled for the evening. \nFood will be provided by one or two food trucks\, and the refreshment bar will be run by our association.
URL:https://nsandifer.com/event/les-mercredis-dahun-20-aout-2025
LOCATION:ahun\, place du champ du foire\, ahun\, 23150\, France
CATEGORIES:marchés nocturnes d'été
ATTACH;FMTTYPE=image/jpeg:https://nsandifer.com/wp-content/uploads/2025/05/Les-Mercredis-dAhun-2025-flyer.jpg
ORGANIZER;CN="La Caravane des Libert%C3%A9s":MAILTO:caravanedeslibertes@protonmail.com
END:VEVENT
BEGIN:VEVENT
DTSTART;TZID=Europe/Paris:20250806T150000
DTEND;TZID=Europe/Paris:20250806T220000
DTSTAMP:20260425T131714
CREATED:20250523T122551Z
LAST-MODIFIED:20250523T132516Z
UID:4544-1754492400-1754517600@nsandifer.com
SUMMARY:Les Mercredis d'Ahun 6 aout 2025
DESCRIPTION:Francaise \n\nComme l’an dernier le petit marché artistique et artisanal se tiendra à partir de 17h.\nDes animations pour les enfants sont prévues à partir de 15h\, et un spectacle sera programmé le soir.\nLa restauration sera assurée par un\, ou deux\, foodtrucks\, et la buvette tenue par notre association.\n\nEnglish \n\nLike last year\, the small arts and crafts market will be starting at 5 p.m. \nChildren’s entertainment is planned starting at 3 p.m.\, and a show will be scheduled for the evening. \nFood will be provided by one or two food trucks\, and the refreshment bar will be run by our association.
URL:https://nsandifer.com/event/les-mercredis-dahun-6-aout-2025
LOCATION:ahun\, place du champ du foire\, ahun\, 23150\, France
CATEGORIES:marchés nocturnes d'été
ATTACH;FMTTYPE=image/jpeg:https://nsandifer.com/wp-content/uploads/2025/05/Les-Mercredis-dAhun-2025-flyer.jpg
ORGANIZER;CN="La Caravane des Libert%C3%A9s":MAILTO:caravanedeslibertes@protonmail.com
END:VEVENT
BEGIN:VEVENT
DTSTART;TZID=Europe/Paris:20250608T070000
DTEND;TZID=Europe/Paris:20250608T180000
DTSTAMP:20260425T131714
CREATED:20250523T132414Z
LAST-MODIFIED:20250523T132414Z
UID:4551-1749366000-1749405600@nsandifer.com
SUMMARY:Fete Yellow Reins Ahun 8 Juin 2025
DESCRIPTION:marché artisanal\, le 08 juin accompagné d’une brocante et d’un village santé Buvette et restauration sur place  \n8 juin 2025 au plan d’eau D’AHUN \nYellow Reins
URL:https://nsandifer.com/event/fete-yellow-reins-ahun-8-juin-2025
LOCATION:ahun\, place du champ du foire\, ahun\, 23150\, France
CATEGORIES:Marché à thème
ATTACH;FMTTYPE=image/jpeg:https://nsandifer.com/wp-content/uploads/2025/05/yellow-reins.jpg
ORGANIZER;CN="Yellow Reins":MAILTO:yellowreins23@gmail.com
END:VEVENT
END:VCALENDAR